BEGIN:VCALENDAR
VERSION:2.0
PRODID:-//Stir Up The Paint - ECPv6.15.8//NONSGML v1.0//EN
CALSCALE:GREGORIAN
METHOD:PUBLISH
X-WR-CALNAME:Stir Up The Paint
X-ORIGINAL-URL:https://il.stirupthepaint.com
X-WR-CALDESC:Events for Stir Up The Paint
REFRESH-INTERVAL;VALUE=DURATION:PT1H
X-Robots-Tag:noindex
X-PUBLISHED-TTL:PT1H
BEGIN:VTIMEZONE
TZID:America/Chicago
BEGIN:DAYLIGHT
TZOFFSETFROM:-0600
TZOFFSETTO:-0500
TZNAME:CDT
DTSTART:20240310T080000
END:DAYLIGHT
BEGIN:STANDARD
TZOFFSETFROM:-0500
TZOFFSETTO:-0600
TZNAME:CST
DTSTART:20241103T070000
END:STANDARD
BEGIN:DAYLIGHT
TZOFFSETFROM:-0600
TZOFFSETTO:-0500
TZNAME:CDT
DTSTART:20250309T080000
END:DAYLIGHT
BEGIN:STANDARD
TZOFFSETFROM:-0500
TZOFFSETTO:-0600
TZNAME:CST
DTSTART:20251102T070000
END:STANDARD
BEGIN:DAYLIGHT
TZOFFSETFROM:-0600
TZOFFSETTO:-0500
TZNAME:CDT
DTSTART:20260308T080000
END:DAYLIGHT
BEGIN:STANDARD
TZOFFSETFROM:-0500
TZOFFSETTO:-0600
TZNAME:CST
DTSTART:20261101T070000
END:STANDARD
END:VTIMEZONE
BEGIN:VEVENT
DTSTART;TZID=America/Chicago:20251227T120000
DTEND;TZID=America/Chicago:20251227T140000
DTSTAMP:20260419T221406
CREATED:20251216T031722Z
LAST-MODIFIED:20251216T031743Z
UID:10001800-1766836800-1766844000@il.stirupthepaint.com
SUMMARY:“Cheers 2026" In Person Painting Event  12-2:00 p.m. at Timeout Market- Fulton Market-With Master Artist
DESCRIPTION:Join us for Cheers-To-Us Live — an afternoon of art\, music\, and connection featuring master artist. \nLocation: Time Out Market Chicago- this immersive Stir Up the Paint experience invites you to eat\, drink\, and unwind with a step-by-step guide through creating a beautifully-inspired painting. \nBring your friends\, family\, or a date and enjoy great vibes\, delicious drinks\, and the joy of painting in community. \n What to Expect: \n\n\n Guided Sip & Paint Workshop led by Stir Up the Paint instructors \n\n\nAll Paint Supplies Provided: canvas\, brushes\, apron\, paints \n\n\n10% Return Discount for future classes \n\n\n Let’s stir up something beautiful together! \n\nNo experience needed — just your creativity and good energy!\n\nPricing\nTotal Ticket: $35 per guest \n\n\n$35 – Sip & Paint Workshop \n\n\nFood & Drink minimum of $25 per person required. Time Out Market offers a Gift Card  available.\n\nTickets available through Stir Up the Paint \nEach week\, guests leave with a completed painting and a memorable experience. \n\nWeekly Schedule\nThursdays: 7:00 PM – 9:00 PMSaturdays: 12:00 PM – 2:00 PM (Family-Friendly) \n 
URL:https://il.stirupthepaint.com/event/cheers-in-person-painting-event-12-200-p-m-at-timeout-market-fulton-market-with-master-artist/
LOCATION:TimeOut Market\, 916 W Fulton Market\, Chicago\, 60607\, United States
CATEGORIES:Live Paint & Sip
ATTACH;FMTTYPE=image/jpeg:https://il.stirupthepaint.com/wp-content/uploads/2024/10/Cheers-To-Us-Artist-Stephanie-Chambers-Venmo-stephanie-chambers-painting-1.jpg
END:VEVENT
BEGIN:VEVENT
DTSTART;TZID=America/Chicago:20251220T120000
DTEND;TZID=America/Chicago:20251220T140000
DTSTAMP:20260419T221406
CREATED:20251216T014544Z
LAST-MODIFIED:20251219T225851Z
UID:10001798-1766232000-1766239200@il.stirupthepaint.com
SUMMARY:“Snowman" In Person Painting Event  12-2:00 p.m. at Timeout Market- Fulton Market-With Master Artist
DESCRIPTION:Join us for Snowman-Sunset Live — an evening of art\, music\, and connection featuring master artist. \nLocation: Time Out Market Chicago- this immersive Stir Up the Paint experience invites you to eat\, drink\, and unwind with a step-by-step guide through creating a beautifully-inspired painting. \nBring your friends\, family\, or a date and enjoy great vibes\, delicious drinks\, and the joy of painting in community. \n What to Expect: \n\n\n Guided Sip & Paint Workshop led by Stir Up the Paint instructors \n\n\nAll Paint Supplies Provided: canvas\, brushes\, apron\, paints \n\n\n10% Return Discount for future classes \n\n\n Let’s stir up something beautiful together! \n\nNo experience needed — just your creativity and good energy!\n\nPricing\nTotal Ticket: $35 per guest \n\n\n$35 – Sip & Paint Workshop \n\n\nFood & Drink minimum of $25 per person required. Time Out Market offers a Gift Card  available.\n\nTickets available through Stir Up the Paint \nEach week\, guests leave with a completed painting and a memorable experience. \n\nWeekly Schedule\nThursdays: 7:00 PM – 9:00 PMSaturdays: 12:00 PM – 2:00 PM (Family-Friendly) \n 
URL:https://il.stirupthepaint.com/event/winter-breeze-in-person-paint-event-saturday-1200-p-m-at-timeout-market-fulton-market-with-master-artist/
LOCATION:TimeOut Market\, 916 W Fulton Market\, Chicago\, 60607\, United States
CATEGORIES:Live Paint & Sip
ATTACH;FMTTYPE=image/jpeg:https://il.stirupthepaint.com/wp-content/uploads/2020/10/Grateful-For-The-Holidays-Artist-Gregory-Copploe-Venmo-gregory-copploe-Paypal-gcopploe@gmail.com_.jpg
END:VEVENT
BEGIN:VEVENT
DTSTART;TZID=America/Chicago:20251218T190000
DTEND;TZID=America/Chicago:20251218T210000
DTSTAMP:20260419T221406
CREATED:20251128T220613Z
LAST-MODIFIED:20251208T073638Z
UID:10001790-1766084400-1766091600@il.stirupthepaint.com
SUMMARY:“Winter Breeze" In Person Paint Night Event Thursday 7:00 p.m. at Timeout Market- Fulton Market-With Master Artist
DESCRIPTION:Join us for Winter Breeze-Sunset Live — an evening of art\, music\, and connection featuring master artist. \nLocation: Time Out Market Chicago- this immersive Stir Up the Paint experience invites you to eat\, drink\, and unwind with a step-by-step guide through creating a beautifully-inspired painting. \nBring your friends\, family\, or a date and enjoy great vibes\, delicious drinks\, and the joy of painting in community. \n What to Expect: \n\n\n Guided Sip & Paint Workshop led by Stir Up the Paint instructors \n\n\nAll Paint Supplies Provided: canvas\, brushes\, apron\, paints \n\n\n10% Return Discount for future classes \n\n\n Let’s stir up something beautiful together! \n\nNo experience needed — just your creativity and good energy!\n\nPricing\nTotal Ticket: $35 per guest \n\n\n$35 – Sip & Paint Workshop \n\n\nFood & Drink minimum of $25 per person required. Time Out Market offers a Gift Card  available.\n\nTickets available through Stir Up the Paint \nEach week\, guests leave with a completed painting and a memorable experience. \n\nWeekly Schedule\nThursdays: 7:00 PM – 9:00 PMSaturdays: 12:00 PM – 2:00 PM (Family-Friendly) \n 
URL:https://il.stirupthepaint.com/event/winter-breeze-in-person-paint-night-event-thursday-700-p-m-in-timeout-market-with-master-artist-kim-21-and-over/
LOCATION:TimeOut Market\, 916 W Fulton Market\, Chicago\, 60607\, United States
CATEGORIES:Live Paint & Sip
ATTACH;FMTTYPE=image/jpeg:https://il.stirupthepaint.com/wp-content/uploads/2025/05/352129679_6404470866337173_5218996230338818152_n.jpg
END:VEVENT
BEGIN:VEVENT
DTSTART;TZID=America/Chicago:20251210T190000
DTEND;TZID=America/Chicago:20251210T210000
DTSTAMP:20260419T221406
CREATED:20251025T151500Z
LAST-MODIFIED:20251128T214424Z
UID:10001782-1765393200-1765400400@il.stirupthepaint.com
SUMMARY:"Holiday Magic" In Person Paint Night Event Wednesday 7:00 p.m. Lincoln Park With Master Artist Kim (21 and Over)
DESCRIPTION:Join us for Holiday Magic Live — an evening of art\, music\, and connection featuring master artist Kim. \nHosted at Tapster Lincoln Park – Chicago\, this immersive Stir Up the Paint experience invites you to eat\, drink\, and unwind while Uneq’ka guides you step-by-step through creating a beautiful Holiday-inspired painting. \nBring your friends\, family\, or a date (Must be 21 and Over)\, and enjoy great vibes\, delicious drinks\, and the joy of painting in community. \n🎨 What to Expect: \n\n\nGuided paint sessions \n\n\nMusic\, food\, and tasting experiences. Food may be brought in and all beverages and tastings must be purchased. Please do not bring in your own beverages \n\n\nAll supplies and instruction provided \n\n\nNo experience needed — just your creativity and good energy! \n\n\n✨ —Let’s stir up something beautiful together! \n 
URL:https://il.stirupthepaint.com/event/ho-ho-ho-holiday-in-person-paint-night-event-wednesday-700-p-m-northside-with-master-artist-uneqka-21-and-over/
LOCATION:Tapster Lincoln Park\, 1059 W Wrightwood Ave\, Chicago\, IL\, 60614\, United States
CATEGORIES:Live Paint & Sip
ATTACH;FMTTYPE=image/jpeg:https://il.stirupthepaint.com/wp-content/uploads/2025/10/Starry-Night-Santa-Artist-Collette-Schildkraut-Venmo-Collette-Schildkraut.jpg
END:VEVENT
BEGIN:VEVENT
DTSTART;TZID=America/Chicago:20251203T190000
DTEND;TZID=America/Chicago:20251203T210000
DTSTAMP:20260419T221406
CREATED:20251025T151101Z
LAST-MODIFIED:20251128T214509Z
UID:10001781-1764788400-1764795600@il.stirupthepaint.com
SUMMARY:"Van Gogh Night" In Person Paint Night Event Wednesday 7:00 p.m. in Lincoln Park With Master Artist Kim (21 and Over)
DESCRIPTION:Join us for Van Gogh Night Live — an evening of art\, music\, and connection featuring master artist Kim. \nHosted at Tapster Lincoln Park– Chicago\, this immersive Stir Up the Paint experience invites you to eat\, drink\, and unwind while Uneq’ka guides you step-by-step through creating a beautiful Starry Night-inspired painting. \nBring your friends\, family\, or a date (Must be 21 and Over)\, and enjoy great vibes\, delicious drinks\, and the joy of painting in community. \n🎨 What to Expect: \n\n\nGuided paint session \n\n\nMusic\, food\, and tasting experiences. Food may be brought in and all beverages and tastings must be purchased. Please do not bring in your own beverages \n\n\nAll supplies and instruction provided \n\n\nNo experience needed — just your creativity and good energy! \n\n\n✨ —Let’s stir up something beautiful together! \n 
URL:https://il.stirupthepaint.com/event/starry-night-in-person-paint-night-event-wednesday-700-p-m-northside-with-master-artist-uneqka-21-and-over-2/
LOCATION:Tapster Lincoln Park\, 1059 W Wrightwood Ave\, Chicago\, IL\, 60614\, United States
CATEGORIES:Live Paint & Sip
ATTACH;FMTTYPE=image/jpeg:https://il.stirupthepaint.com/wp-content/uploads/2025/05/156832945_10225414249369731_5142587621090815568_n.jpg
END:VEVENT
BEGIN:VEVENT
DTSTART;TZID=America/Chicago:20251119T190000
DTEND;TZID=America/Chicago:20251119T210000
DTSTAMP:20260419T221406
CREATED:20251024T171945Z
LAST-MODIFIED:20251107T023807Z
UID:10001780-1763578800-1763586000@il.stirupthepaint.com
SUMMARY:"Colors Of Fall" In Person Paint Night Event Wednesday 7:00 p.m. in Lincoln Park With Master Artist Uneq’ka (21 and Over)
DESCRIPTION:Join us for Colors Of Fall Live — an evening of art\, music\, and connection featuring master artist Uneq’ka. \nHosted at Tapster Lincoln Park – Chicago\, this immersive Stir Up the Paint experience invites you to eat\, drink\, and unwind while Uneq’ka guides you step-by-step through creating a beautiful Fall-inspired painting. \nBring your friends\, family\, or a date (Must be 21 and Over)\, and enjoy great vibes\, delicious drinks\, and the joy of painting in community. \n🎨 What to Expect: \n\n\nGuided paint session with Uneq’ka \n\n\nMusic\, food\, and tasting experiences. Food may be brought in and all beverages and tastings must be purchased. Please do not bring in your own beverages \n\n\nAll supplies and instruction provided \n\n\nNo experience needed — just your creativity and good energy! \n\n\n✨ It’s time to enjoy the colors of Fall — let’s stir up something beautiful together! \n 
URL:https://il.stirupthepaint.com/event/harvest-time-in-person-paint-night-event-wednesday-700-p-m-northside-with-master-artist-uneqka-21-and-over/
LOCATION:Tapster Lincoln Park\, 1059 W Wrightwood Ave\, Chicago\, IL\, 60614\, United States
CATEGORIES:Live Paint & Sip
ATTACH;FMTTYPE=image/jpeg:https://il.stirupthepaint.com/wp-content/uploads/2025/10/Colors-of-Fall-Artist-Carmen-Maciboric-Paypal-@carmenmaciboric.jpg
END:VEVENT
END:VCALENDAR