BEGIN:VCALENDAR
VERSION:2.0
PRODID:-//Stir Up The Paint - ECPv6.15.8//NONSGML v1.0//EN
CALSCALE:GREGORIAN
METHOD:PUBLISH
X-ORIGINAL-URL:https://il.stirupthepaint.com
X-WR-CALDESC:Events for Stir Up The Paint
REFRESH-INTERVAL;VALUE=DURATION:PT1H
X-Robots-Tag:noindex
X-PUBLISHED-TTL:PT1H
BEGIN:VTIMEZONE
TZID:America/Chicago
BEGIN:DAYLIGHT
TZOFFSETFROM:-0600
TZOFFSETTO:-0500
TZNAME:CDT
DTSTART:20250309T080000
END:DAYLIGHT
BEGIN:STANDARD
TZOFFSETFROM:-0500
TZOFFSETTO:-0600
TZNAME:CST
DTSTART:20251102T070000
END:STANDARD
BEGIN:DAYLIGHT
TZOFFSETFROM:-0600
TZOFFSETTO:-0500
TZNAME:CDT
DTSTART:20260308T080000
END:DAYLIGHT
BEGIN:STANDARD
TZOFFSETFROM:-0500
TZOFFSETTO:-0600
TZNAME:CST
DTSTART:20261101T070000
END:STANDARD
BEGIN:DAYLIGHT
TZOFFSETFROM:-0600
TZOFFSETTO:-0500
TZNAME:CDT
DTSTART:20270314T080000
END:DAYLIGHT
BEGIN:STANDARD
TZOFFSETFROM:-0500
TZOFFSETTO:-0600
TZNAME:CST
DTSTART:20271107T070000
END:STANDARD
END:VTIMEZONE
BEGIN:VEVENT
DTSTART;TZID=America/Chicago:20260209T183000
DTEND;TZID=America/Chicago:20260209T203000
DTSTAMP:20260419T165731
CREATED:20260202T225646Z
LAST-MODIFIED:20260209T063214Z
UID:10001819-1770661800-1770669000@il.stirupthepaint.com
SUMMARY:Private Event:  6:30 p.m. in Lincoln Park With Master Artist
DESCRIPTION:Join us for Hop The Moon Live — an evening of art\, music\, and connection featuring master artist.\n\nHosted at Tapster Tasting Room – Chicago\, this immersive Stir Up the Paint experience invites you to eat\, drink\, and unwind with a step-by-step guide through creating a beautifully-inspired painting. \nPrivate Event: 10 people \nWhat to Expect: \n\n\nGuided paint \n\n\nMusic\, food\, and tasting experiences. Food may be brought in and all beverages and tastings must be purchased. Please do not bring in your own beverages \n\n\nAll supplies and instruction provided \n\n\nNo experience needed — just your creativity and good energy! \n\n\nLet’s stir up something beautiful together! \n 
URL:https://il.stirupthepaint.com/event/private-event-630-p-m-in-lincoln-park-with-master-artist/
LOCATION:Tapster Lincoln Park\, 1059 W Wrightwood Ave\, Chicago\, IL\, 60614\, United States
CATEGORIES:Live Paint & Sip
ATTACH;FMTTYPE=image/jpeg:https://il.stirupthepaint.com/wp-content/uploads/2025/07/518841835_24606044752326011_8623839930000847084_n.jpg
END:VEVENT
BEGIN:VEVENT
DTSTART;TZID=America/Chicago:20260218T190000
DTEND;TZID=America/Chicago:20260218T210000
DTSTAMP:20260419T165731
CREATED:20251216T074934Z
LAST-MODIFIED:20251229T214450Z
UID:10001808-1771441200-1771448400@il.stirupthepaint.com
SUMMARY:“Bloom" In Person Paint Night Event Wednesday 7:00 p.m. in Lincoln Park With Master Artist (21 and Over)
DESCRIPTION:Join us for Bloom — an evening of art\, music\, and connection featuring master artist. \nHosted at Tapster Tasting Room – Chicago\, this immersive Stir Up the Paint experience invites you to eat\, drink\, and unwind with a step-by-step guide through creating a beautifully-inspired painting. \nBring your friends\, family\, or a date (Must be 21 and Over)\, and enjoy great vibes\, delicious drinks\, and the joy of painting in community. \nWhat to Expect: \n\n\nGuided paint \n\n\nMusic\, food\, and tasting experiences. Food may be brought in and all beverages and tastings must be purchased. Please do not bring in your own beverages \n\n\nAll supplies and instruction provided \n\n\nNo experience needed — just your creativity and good energy! \n\n\nLet’s stir up something beautiful together! \n 
URL:https://il.stirupthepaint.com/event/bool-live-in-person-paint-night-event-wednesday-700-p-m-in-lincoln-park-with-master-artist-21-and-over/
LOCATION:Tapster Lincoln Park\, 1059 W Wrightwood Ave\, Chicago\, IL\, 60614\, United States
CATEGORIES:Live Paint & Sip
ATTACH;FMTTYPE=image/jpeg:https://il.stirupthepaint.com/wp-content/uploads/2025/02/Screenshot_20250218_114106_Chrome.jpg
END:VEVENT
BEGIN:VEVENT
DTSTART;TZID=America/Chicago:20260225T140000
DTEND;TZID=America/Chicago:20260225T160000
DTSTAMP:20260419T165731
CREATED:20260202T233723Z
LAST-MODIFIED:20260206T232733Z
UID:10001820-1772028000-1772035200@il.stirupthepaint.com
SUMMARY:Private Event:  2 pm p.m. With Master Artist
DESCRIPTION:Join us Live — an evening of art\, music\, and connection featuring master artist. \nHosted at Tapster Tasting Room – Chicago\, this immersive Stir Up the Paint experience invites you to eat\, drink\, and unwind with a step-by-step guide through creating a beautifully-inspired painting. \nPrivate Event: 20 people \nWhat to Expect: \n\n\nGuided paint \n\n\nMusic\, food\, and tasting experiences. Food may be brought in and all beverages and tastings must be purchased. Please do not bring in your own beverages \n\n\nAll supplies and instruction provided \n\n\nNo experience needed — just your creativity and good energy! \n\n\nLet’s stir up something beautiful together! \n 
URL:https://il.stirupthepaint.com/event/private-event-2pm-p-m-in-lincoln-park-with-master-artist-2/
LOCATION:Stir UP The Paint Private Event Venue\, United States
CATEGORIES:Live Paint & Sip
ATTACH;FMTTYPE=image/jpeg:https://il.stirupthepaint.com/wp-content/uploads/2025/07/1000046960.jpg
END:VEVENT
BEGIN:VEVENT
DTSTART;TZID=America/Chicago:20260225T190000
DTEND;TZID=America/Chicago:20260225T210000
DTSTAMP:20260419T165731
CREATED:20251216T081640Z
LAST-MODIFIED:20251226T071700Z
UID:10001811-1772046000-1772053200@il.stirupthepaint.com
SUMMARY:“Hop The Moon" In Person Paint Night Event Wednesday 7:00 p.m. in Lincoln Park With Master Artist (21 and Over)
DESCRIPTION:Join us for Hop The Moon Live — an evening of art\, music\, and connection featuring master artist. \nHosted at Tapster Tasting Room – Chicago\, this immersive Stir Up the Paint experience invites you to eat\, drink\, and unwind with a step-by-step guide through creating a beautifully-inspired painting. \nBring your friends\, family\, or a date (Must be 21 and Over)\, and enjoy great vibes\, delicious drinks\, and the joy of painting in community. \nWhat to Expect: \n\n\nGuided paint \n\n\nMusic\, food\, and tasting experiences. Food may be brought in and all beverages and tastings must be purchased. Please do not bring in your own beverages \n\n\nAll supplies and instruction provided \n\n\nNo experience needed — just your creativity and good energy! \n\n\nLet’s stir up something beautiful together! \n 
URL:https://il.stirupthepaint.com/event/hop-the-moon-live-in-person-paint-night-event-wednesday-700-p-m-in-lincoln-park-with-master-artist-21-and-over-2/
LOCATION:Tapster Lincoln Park\, 1059 W Wrightwood Ave\, Chicago\, IL\, 60614\, United States
CATEGORIES:Live Paint & Sip
ATTACH;FMTTYPE=image/jpeg:https://il.stirupthepaint.com/wp-content/uploads/2025/07/518166222_24536149242648896_1808327265665937764_n.jpg
END:VEVENT
BEGIN:VEVENT
DTSTART;TZID=America/Chicago:20260416T171500
DTEND;TZID=America/Chicago:20260416T191500
DTSTAMP:20260419T165731
CREATED:20260406T143638Z
LAST-MODIFIED:20260406T151836Z
UID:10001826-1776359700-1776366900@il.stirupthepaint.com
SUMMARY:Private Event:  5:15 p.m. With Master Artist
DESCRIPTION:Private Event  – Chicago\, this immersive Stir Up the Paint experience invites you to eat\, drink\, and unwind with a step-by-step guide through creating a beautifully-inspired painting. \nPrivate Event: 7 people \nWhat to Expect: \n\n\nGuided paint \n\n\nMusic\, food\, and tasting experiences. Food may be brought in and all beverages and tastings must be purchased. Please do not bring in your own beverages \n\n\nAll supplies and instruction provided \n\n\nNo experience needed — just your creativity and good energy! \n\n\nLet’s stir up something beautiful together! \n 
URL:https://il.stirupthepaint.com/event/private-event-515-p-m-with-master-artist/
LOCATION:Stir UP The Paint Private Event Venue\, United States
CATEGORIES:Live Paint & Sip
ATTACH;FMTTYPE=image/jpeg:https://il.stirupthepaint.com/wp-content/uploads/2025/07/1000046960.jpg
END:VEVENT
BEGIN:VEVENT
DTSTART;TZID=America/Chicago:20260423T190000
DTEND;TZID=America/Chicago:20260423T210000
DTSTAMP:20260419T165731
CREATED:20260330T050753Z
LAST-MODIFIED:20260414T154136Z
UID:10001825-1776970800-1776978000@il.stirupthepaint.com
SUMMARY:“Colorful Nights" In Person Paint Night Event Thursday 7:00 p.m. in Forest Park With Master Artist
DESCRIPTION:Join us for Colorful Nights — an evening of art\, music\, and connection featuring master artist. \nHosted at Tapster Tasting Room – Chicago\, this immersive Stir Up the Paint experience invites you to eat\, drink\, and unwind with a step-by-step guide through creating a beautifully-inspired painting. \nBring your friends\, family\, or a date and enjoy great vibes\, delicious drinks\, and the joy of painting in community. \nWhat to Expect: \n\n\nGuided paint \n\n\nMusic\, food\, and tasting experiences. Food may be brought in and all beverages and tastings must be purchased. Please do not bring in your own beverages \n\n\nAll supplies and instruction provided \n\n\nNo experience needed — just your creativity and good energy! \n\n\nLet’s stir up something beautiful together! \n 
URL:https://il.stirupthepaint.com/event/colorful-nights-in-person-paint-night-event-thursday-700-p-m-in-forest-park/
LOCATION:Scratch Public House\, 7505 Madison St\,\, Forest Park\, 60130\, United States
CATEGORIES:Live Paint & Sip
ATTACH;FMTTYPE=image/jpeg:https://il.stirupthepaint.com/wp-content/uploads/2025/02/295980884_5791793654198685_218408551967239342_n.jpg
END:VEVENT
END:VCALENDAR